BEGIN:VCALENDAR
VERSION:2.0
PRODID:-//ERIAC - UR 4705 - ECPv6.15.20//NONSGML v1.0//EN
CALSCALE:GREGORIAN
METHOD:PUBLISH
X-ORIGINAL-URL:https://eriac.univ-rouen.fr
X-WR-CALDESC:Évènements pour ERIAC - UR 4705
REFRESH-INTERVAL;VALUE=DURATION:PT1H
X-Robots-Tag:noindex
X-PUBLISHED-TTL:PT1H
BEGIN:VTIMEZONE
TZID:Europe/Paris
BEGIN:DAYLIGHT
TZOFFSETFROM:+0100
TZOFFSETTO:+0200
TZNAME:CEST
DTSTART:20240331T010000
END:DAYLIGHT
BEGIN:STANDARD
TZOFFSETFROM:+0200
TZOFFSETTO:+0100
TZNAME:CET
DTSTART:20241027T010000
END:STANDARD
BEGIN:DAYLIGHT
TZOFFSETFROM:+0100
TZOFFSETTO:+0200
TZNAME:CEST
DTSTART:20250330T010000
END:DAYLIGHT
BEGIN:STANDARD
TZOFFSETFROM:+0200
TZOFFSETTO:+0100
TZNAME:CET
DTSTART:20251026T010000
END:STANDARD
BEGIN:DAYLIGHT
TZOFFSETFROM:+0100
TZOFFSETTO:+0200
TZNAME:CEST
DTSTART:20260329T010000
END:DAYLIGHT
BEGIN:STANDARD
TZOFFSETFROM:+0200
TZOFFSETTO:+0100
TZNAME:CET
DTSTART:20261025T010000
END:STANDARD
BEGIN:DAYLIGHT
TZOFFSETFROM:+0100
TZOFFSETTO:+0200
TZNAME:CEST
DTSTART:20270328T010000
END:DAYLIGHT
BEGIN:STANDARD
TZOFFSETFROM:+0200
TZOFFSETTO:+0100
TZNAME:CET
DTSTART:20271031T010000
END:STANDARD
END:VTIMEZONE
BEGIN:VEVENT
DTSTART;TZID=Europe/Paris:20251103T160000
DTEND;TZID=Europe/Paris:20260608T180000
DTSTAMP:20260425T121806
CREATED:20251013T151249Z
LAST-MODIFIED:20260131T113046Z
UID:5341-1762185600-1780941600@eriac.univ-rouen.fr
SUMMARY:Séminaire "Les minorités dans l’Espagne médiévale et moderne (XVe-XVIIe siècles)"
DESCRIPTION:Cycle organisé par Rica Amran (Université de Picardie Jules Verne\, Amiens) et Youssef El Alaoui (Université de Rouen Normandie – ERIAC). Les séances se tiendront par visioconférence de 16h00 à 18h00. \nProgramme\n3 novembre 2025\nRafael Pérez García (Universidad de Sevilla)\, « La esclavitud negra en España\, siglos XV-XVII: tratas\, contextos y desarrollos sociales »\nDiscutant : Luis F. Bernabé Pons \n15 décembre 2025\nAraceli Moreno Coll. (Universidad de Valencia)\, « Entre sedas y ruinas: apropiación y destrucción del legado islámico »\nDiscutant : Borja Franco Llopis \n16 février 2026\nMaría Isabel del Val Valdivieso (Univer sidad de Valladolid) :\, « Enunciados en femenino en las normas impuestas a las minorías castellanas en el siglo XV »\nDiscutante : Françoise Richer Rossi \n16 mars 2026\nSusana Bastos Mateus (Universidad de Lisboa)\, « Género\, represión y movilidad: mujeres cristianas nuevas ante la Inquisición de Goa en el siglo XVI »\nDiscutant : Fernando Pancorbo \n18 mai 2026\nJames W. Nelson Novoa (Université d’Ottawa)\, « Entre la corte y la orilla: judeoconversos portugueses en la España Moderna »\nDiscutante : Rica Amran \n8 juin 2026\nÓscar López Gómez (Universidad de Castilla -La Mancha)\, « Tocar las campanas contra los conversos . El lenguaje sonoro de la acción colectiva en la Castilla del siglo XV »\nDiscutant : Youssef El Alaoui \nEn collaboration avec : \n\nLuis F. Bernabé Pons (Universidad de Alicante)\nBorja Franco Llopis (UNED)\nFrançoise Richer-Rossi (Université Paris Cité)\nFernando Pancorbo (Univeristät Basel)\n\n Télécharger le programme
URL:https://eriac.univ-rouen.fr/agenda/seminaire-les-minorites-dans-lespagne-medievale-et-moderne-xve-xviie-siecles-3/
LOCATION:Visioconférence
CATEGORIES:Séminaires
ATTACH;FMTTYPE=image/jpeg:https://eriac.univ-rouen.fr/wp-content/uploads/2025/10/Affiche_SeminaireMinoritesEspagne2025-2026.jpg
ORGANIZER;CN="Rica Amran":MAILTO:rica.amran@u-picardie.fr
END:VEVENT
BEGIN:VEVENT
DTSTART;TZID=Europe/Paris:20260427T134500
DTEND;TZID=Europe/Paris:20260428T180000
DTSTAMP:20260425T121806
CREATED:20260416T141728Z
LAST-MODIFIED:20260417T220558Z
UID:6070-1777297500-1777399200@eriac.univ-rouen.fr
SUMMARY:En contexte et hors contexte I. Formes brèves et constitution du sens : les cas du théâtre et de la philosophie gréco-romaines
DESCRIPTION:L’utilisation des formes brèves (maximes\, chries\, proverbes\, apophtegmes\, fables…) dans l’Antiquité a fait l’objet\, au cours des dernières décennies\, d’innombrables études : des recueils (Tosi 2017\, Lelli 2021) aux réflexions collectives (Funghi 2003\, Lelli 2011\, Mauduit 2011\, Robert-Zink 2020\, Aevum Antiquum 2024)\, en passant par l’analyse formelle (Boscà Cuquerella 2023)\, l’étude de la dimension populaire (Morgan 2007) et l’attention portée aux contextes de transmission manuscrite (Piccione 2017\, 2021)\, pour ne citer que quelques études. En organisant une série d’événements de recherche qui se dérouleront entre Lille et Rouen en 2026\, nous proposons de créer un groupe d’échanges afin de poursuivre les recherches sur les formes courtes – leur expressivité et leurs fonctions\, leur variété\, leur réutilisabilité et leur caractère « universel » – en accordant une attention particulière et renouvelée aux pratiques d’utilisation et de réutilisation. \nLe premier événement (En contexte et hors contexte I) aura lieu à Lille les 27 et 28 avril 2026 et sera consacré aux textes dramatiques et philosophiques. L’objectif des travaux sera de problématiser la relation entre forme et contexte. Nous nous interrogerons tout d’abord sur la manière dont le sens des formes courtes se crée et « s’étend » dans les contextes d’utilisation et de réception d’origine – par exemple\, dans le cas du théâtre\, dans le cadre de la représentation théâtrale\, ou pour la philosophie\, dans le cadre des enseignements du philosophe et de son école. Nous aborderons également la relation dynamique avec la  « contraction » du sens au moment de la sélection et de la pratique anthologique\, et son évolution dans les contextes de réutilisation – en particulier\, mais pas exclusivement\, dans le domaine de l’enseignement. Parallèlement\, l’événement sera l’occasion de discuter de la manière dont les différentes caractéristiques des divers types de textes courts conditionnent la construction de leur signification\, ainsi que les modes de réception de cette dernière. L’objectif est ainsi de poursuivre la réflexion sur les définitions et les limites des différentes formes courtes\, en l’ancrant dans les contextes d’utilisation et de réutilisation\, et en l’articulant avec une sensibilité méthodologique qui tienne compte des théories de la réception et de l’intertextualité\, ainsi que des complexités interprétatives liées aux circonstances de la performance et de la reperformance\, ainsi qu’aux pratiques de sélection dans le cadre d’anthologies. Une place est également accordée à une enquête sur la dimension ontologique des textes courts dans les pratiques pédagogiques\, où les énoncés brefs peuvent servir de voies d’entrée à des formes littéraires et philosophiques plus exigeantes\, dans un double mouvement d’enrichissement puis de contraction. \nProgramme\nLundi 27 avril 2026\n13h45 — Accueil \n14h15 — Sara De Martin (STL\, Lille) et Mélanie Lucciano (ERIAC\, Rouen / IUF)\, Introduction \nPrésidence : Sophie Aubert-Baillot (STL\, Lille) \n14h45 — Conférence d’ouverture\nPhilippe Hoffmann (LEM\, EPHE)\, « Les aspects psychologiques du recours à la forme brève » \n16h00 — Pause-café \nPrésidence : Sara De Martin (STL\, Lille) \n16h30 — Alba Boscà Cuquerella (Valladolid)\, « Gnome in context: pragmatics and performative function of the gnomai in Euripidean tragedy » \n17h30 — Pascale Paré-Rey (HiSoMA\, Lyon 3)\, « Sénèque à l’école d’Euripide : le philosophe latin excerpteur du tragique grec » \n19h45 — Dîner \nMardi 28 avril 2026\nPrésidence : Anne de Cremoux (STL\, Lille) \n9h15 — Marina Paschalidou (Brasenose College\, Oxford)\, « Aristophanes and the paroemiographers’ false (?) positives » \n10h15 — Marion Faure (ANHIMA\, Paris 1)\, « Motifs comiques et pensée théorique : l’intégration des citations de comédie dans les oeuvres philosophiques de Cicéron » \n11h15 — Pause-café \nPrésidence : Mélanie Lucciano (ERIAC\, Rouen / IUF) \n11h30 — Donatella Izzo (CERAM\, Sorbonne Nouvelle) [en distanciel]\, « Quelques exemples de réutilisation et de suppressions homériques et tragiques dans les chries et dans les lettres cyniques » \n12h30 — Déjeuner \nPrésidence : Vivien Longhi (STL\, Lille) \n14h00 — Antonio Mura (Sassari)\, « Securing the doctrines\, founding the canon: Epicurus’ δόξαι between philology and circulation of knowledge » \n15h00 — Mélanie Lucciano (ERIAC\, Rouen / IUF)\, « Présence des chries socratiques dans le stoïcisme » \n16h00 — Pause-café \nPrésidence : Ruth Webb (STL\, Lille) \n16h30 — Fabio Nolfo (Glasgow / Liège)\, « The myth of Medea and the ‘concise’ lexis of epigrammatic poetry: expressivity and the reuse of a theatrical paradigm » \n17h30 — Conclusions \nInformations & visioconférence\n\nSara De Martin\, sara.de-martin@univ-lille.fr\nMélanie Lucciano\, melanie.lucciano@univ-rouen.fr\n\nBibliographie\n\nBoscà Cuquerella\, A. (2023) La gnome en Eurípides\, Lausanne.\nFunghi\, M.S. (dir.) (2003-2004) Aspetti di letteratura gnomica nel mondo antico\, I-II\, Firenze.\nLelli\, E. (dir.) (2009-2011) Παροιμιακῶς: Il proverbio in Grecia e a Roma\, I-III\, Pisa-Roma (= Philologia Antiqua 2-4).\nLelli\, E. (2021) Proverbi\, sentenze e massime di saggezza in Grecia e a Roma. Tutte le raccolte da Pitagora all’Umanesimo\, Milano.\nMauduit\, C.\, Paré-Rey\, P. (dir.) (2011) Les maximes théâtrales en Grèce et à Rome : transferts\, réécritures\, remplois\, Paris.\nMorgan\, T. (2007) Popular Morality in the Early Roman Empire\, Cambridge.\nPiccione\, R.M. (2017) “Sentenze\, antologie gnomiche e gnomologi”\, in Corpus dei papiri filosofici greci e latini (CPF)\, II.3\, Firenze\, 3-24.\nRobert\, J.-N.\, Zink\, M. (dir.) (2020) Les petites phrases. Puissance de la brièveté dans les littératures d’Orient et d’Occident\, Paris (= Cahiers de la Villa Kérylos 31).\nTosi\, R. (2017) Dizionario delle sentenze latine e greche (2nd ed.)\, Milano.\nUsi e riusi di proverbi classici\, Milano 2024 (= Aevum Antiquum N.S. 24).\n\n Télécharger le programme
URL:https://eriac.univ-rouen.fr/agenda/en-contexte-et-hors-contexte-i-formes-breves-et-constitution-du-sens-les-cas-du-theatre-et-de-la-philosophie-greco-romaines/
LOCATION:Université de Lille | Campus Pont-de-Bois | Salle Corbin (B1.661) & Visioconférence\, 3 rue du Barreau\, Villeneuve-d'Ascq\, 59650\, France
CATEGORIES:Colloques
ATTACH;FMTTYPE=image/jpeg:https://eriac.univ-rouen.fr/wp-content/uploads/2026/04/Affiche_EnContexteHorsContexte-scaled.jpg
ORGANIZER;CN="M%C3%A9lanie Lucciano":MAILTO:melanie.lucciano@univ-rouen.fr
END:VEVENT
BEGIN:VEVENT
DTSTART;TZID=Europe/Paris:20260428T163000
DTEND;TZID=Europe/Paris:20260428T180000
DTSTAMP:20260425T121806
CREATED:20260415T141348Z
LAST-MODIFIED:20260415T141611Z
UID:6068-1777393800-1777399200@eriac.univ-rouen.fr
SUMMARY:Étudier les discours de l’esport : enjeux\, méthodes\, résultats et perspectives
DESCRIPTION:L’esport\, ou autrement dit\, la pratique compétitive des jeux vidéo\, occupe aujourd’hui une place majeure dans les sociétés contemporaines par son audience et ses pratiques\, avec près de 11\,8 millions de consommateur·ices et/ou pratiquant·es en France en 2023 et des records d’audience internationaux. Devenu un objet d’étude scientifique à part entière\, il mobilise de nombreuses disciplines (sciences du sport\, psychologie\, sociologie\, communication\, gestion\, éducation\, droit\, informatique)\, structurées dans des réseaux de recherche nationaux et internationaux. Toutefois\, les sciences du langage restent encore peu investies dans ce champ\, alors même que : \n\nUne communication de qualité au sein des équipes de sports électroniques joue un rôle déterminant pour la victoire ;\nLa professionnalisation du commentaire des rencontres constitue un enjeu pour la légitimation de l’esport comme sport à part entière ;\nLes joueur·ses et commentateur·ices amateur·ices sont demandeur·ses de supports de formation ;\nLes innovations langagières dans la langue des joueur·ses jouent un rôle important dans la compréhension des communautés de pratique\, et peuvent également constituer des indicateurs de changements linguistiques plus larges en cours ou à venir dans la langue commune.\n\nSophie Kraeber est maîtresse de conférences en linguistique à l’université de Caen Normandie (laboratoire CRISCO). Dans cette communication\, elle présentera ses travaux de thèse ainsi que ses autres recherches menées seule ou en collaboration sur le commentaire des matchs professionnels de jeux vidéo et les interactions entre joueur·ses en contexte compétitif. \nElle abordera les défis posés par ce type de corpus\, notamment en matière d’accessibilité\, de collecte\, de traitement et de partage des données\, en lien avec les contraintes RGPD. Elle présentera ses principaux résultats et les perspectives de recherche envisagées\, incluant un projet déposé pour un financement par la région Nouvelle-Aquitaine en janvier 2026 ainsi que de prochaines collaborations internationales franco-coréennes.
URL:https://eriac.univ-rouen.fr/agenda/etudier-les-discours-de-lesport-enjeux-methodes-resultats-et-perspectives/
LOCATION:UFR Lettres et Sciences humaines | Bâtiment 3 – 6e étage | Salle A600\, 1 rue Lavoisier\, Mont-Saint-Aignan\, 76130\, France
CATEGORIES:Séminaire Axe 4,Séminaires
ORGANIZER;CN="Laura Goudet":MAILTO:laura.goudet@univ-rouen.fr
END:VEVENT
BEGIN:VEVENT
DTSTART;TZID=Europe/Paris:20260429T170000
DTEND;TZID=Europe/Paris:20260429T183000
DTSTAMP:20260425T121806
CREATED:20260210T193707Z
LAST-MODIFIED:20260210T193707Z
UID:5917-1777482000-1777487400@eriac.univ-rouen.fr
SUMMARY:Écriture et Soin
DESCRIPTION:Le webinaire « Art\, éthique et soin » aura le plaisir d’accueillir : \n\nKhalia Haydara (Université Cheikh Anta Diop de Dakar)\, « Dans quelle dimension la littérature contribue-t-elle à la guérison ? »\nUte Fendler & Thierry Boudjekeu (Universität Bayreuth / Africa Multiple Cluster of Excellence)\, « De l’oubli à la mémoire. Échos mémoriels transatlantiques »\n\nWebinaire « Art\, éthique et soin » \nMaster d’éthique appliquée (Master « Langues et Sociétés »\, parcours « Philosophie et société »)\, des séminaires de recherche de l’axe 3\, Groupe de recherche « Prendre en compte la vulnérabilité : définir\, partager\, agir » : https://pcv.hypotheses.org. \nQuatre séances sont consacrées à une réflexion interculturelle et pluridisciplinaire sur la vulnérabilité\, visant à interroger les relations possibles entre l’art\, dans la diversité de ses expressions (littérature\, musique\, arts plastiques\, théâtre\, danse)\, et les pratiques du soin\, aussi bien dans le contexte contemporain qu’à travers différentes périodes historiques. Il s’agit d’analyser la manière dont l’art peut participer à des processus de soin\, de réparation et de reconstruction\, ainsi que les modalités concrètes de cette contribution. \nCette réflexion s’inscrit dans une dynamique internationale\, portée par une collaboration entre les départements de philosophie de l’Université Cheikh Anta Diop de Dakar et de l’Université de Rouen Normandie\, le département d’histoire de l’art de l’Université d’Abomey-Calavi à Cotonou\, ainsi que la Chair of Romance and Comparative Literature de l’Université de Bayreuth. Elle croise des approches issues de la philosophie (notamment en éthique et en esthétique)\, de la médecine\, de la littérature\, des pratiques artistiques et culturelles\, de la sociologie\, des sciences de l’éducation et de la psychologie\, en lien étroit avec des centres d’art\, des institutions psychiatriques et des musées. \nL’enjeu central de ces échanges est de comprendre en quoi\, et selon quelles modalités\, l’art peut contribuer à soigner et à réparer.
URL:https://eriac.univ-rouen.fr/agenda/ecriture-et-soin/
LOCATION:Visioconférence
CATEGORIES:Séminaires,Webinaire Vulnérabilité
ATTACH;FMTTYPE=image/jpeg:https://eriac.univ-rouen.fr/wp-content/uploads/2026/02/Affiche_SeminaireArtEthiqueSoin2026.jpg
END:VEVENT
BEGIN:VEVENT
DTSTART;TZID=Europe/Paris:20260430T163000
DTEND;TZID=Europe/Paris:20260430T180000
DTSTAMP:20260425T121806
CREATED:20251015T061252Z
LAST-MODIFIED:20260217T112946Z
UID:5394-1777566600-1777572000@eriac.univ-rouen.fr
SUMMARY:De la comédie de magie au spiritisme\, en passant par la nuit et l'Illusionnisme : une histoire "occulturelle" de l'Espagne contemporaine
DESCRIPTION:Lise Jankovic est maîtresse de conférences en études hispaniques à l’université de Rouen Normandie (ERIAC UR 4705). \nCette communication retrace l’évolution de mon parcours de chercheuse\, de l’étude de la comédie de magie — moteur de l’industrialisation des spectacles en Espagne entre 1840 et 1936 — vers une exploration plus vaste de l’« occulture » (Greiner\, Ledda\, Douzou\, 2023) des XIXe et XXe siècles. Après avoir analysé l’envers du décor de la scène féerique et les circulations techniques entre prestidigitation et théâtre\, mes travaux se sont élargis à l’histoire de l’Illusionnisme et du spiritisme. À travers des objets d’étude variés\, tels que les stratégies publicitaires des prestidigitateurs\, les expériences spirites d’apparitions « fluidiques » relatées dans la presse espagnole de l’époque ou la trajectoire politique de l’illusionniste Fructuoso Canonge (1824-1890)\, j’examine comment la magie récréative et les pratiques pseudo-scientifiques surnaturelles dépassent le statut de simple divertissement pour devenir une affaire publique et politique aux multiples enjeux – nationaux et transnationaux. Mon approche vise ainsi à réhabiliter ce « prolétariat » du spectacle en rendant compte de son rôle et de sa résonance dans l’histoire des mentalités de l’Espagne contemporaine.
URL:https://eriac.univ-rouen.fr/agenda/de-la-comedie-de-magie-au-spiritisme-en-passant-par-la-nuit-et-lillusionnisme-une-histoire-occulturelle-de-lespagne-contemporaine/
CATEGORIES:Séminaire Axe 1,Séminaires
ATTACH;FMTTYPE=image/jpeg:https://eriac.univ-rouen.fr/wp-content/uploads/2025/10/Affiche_ComedieMagieSpiritisme-scaled.jpg
END:VEVENT
BEGIN:VEVENT
DTSTART;TZID=Europe/Paris:20260512T170000
DTEND;TZID=Europe/Paris:20260512T170000
DTSTAMP:20260425T121806
CREATED:20251103T142922Z
LAST-MODIFIED:20251103T142922Z
UID:5447-1778605200-1778605200@eriac.univ-rouen.fr
SUMMARY:Le traitement graphique des femmes dans les bandes dessinées de Posy Simmonds
DESCRIPTION:Oriane Monthéard est maîtresse de conférences en études anglophones à l’université de Rouen Normandie (ERIAC UR 4705)
URL:https://eriac.univ-rouen.fr/agenda/le-traitement-graphique-des-femmes-dans-les-bandes-dessinees-de-posy-simmonds/
CATEGORIES:Séminaire Axe 2,Séminaires
END:VEVENT
BEGIN:VEVENT
DTSTART;TZID=Europe/Paris:20260512T183000
DTEND;TZID=Europe/Paris:20260512T203000
DTSTAMP:20260425T121806
CREATED:20260218T144644Z
LAST-MODIFIED:20260219T085351Z
UID:5948-1778610600-1778617800@eriac.univ-rouen.fr
SUMMARY:Alexandre Kojève et l’État autoritaire
DESCRIPTION:Il existe à ce jour peu d’études sur la philosophie sous l’Occupation\, qu’il s’agisse des doctrinaires de la collaboration ou des philosophes résistants. Ces derniers s’exprimèrent à la fois par des publications clandestines\, des journaux\, des correspondances et par l’action. L’ouvrage collectif dirigé par Olivier Bloch\, Philosopher en France sous l’Occupation (2009)\, constitue une exception notable. Il n’aborde toutefois pas la question de la collaboration intellectuelle. Des travaux récents montrent néanmoins un intérêt croissant pour cette période. \nLe séminaire « Les philosophes dans la collaboration et la résistance : enjeux philosophiques et politiques » — organisé par le collège international de philosophie\, avec le soutien de l’université de Rouen Normandie (ERIAC) et du campus Condorcet — s’appuiera sur des textes rares et des archives inédites. Il analysera les grandes orientations de la pensée philosophique entre 1940 et 1944. Il examinera aussi ce que Hans Blumenberg appelait le « dévoiement des philosophes ». Il s’agira enfin d’étudier les prolongements intellectuels et politiques de cette période après 1945\, notamment dans la Nouvelle Droite. Une attention particulière sera accordée au rôle et à la réception de Carl Schmitt. \n Télécharger le programme\n  \nInformations\n| emmanuel.faye@gmail.com
URL:https://eriac.univ-rouen.fr/agenda/alexandre-kojeve-et-letat-autoritaire/
LOCATION:Campus Condorcet | Centre des colloques | Salle 3.03 & Visioconférence\, Place du Front populaire\, Aubervilliers\, 93322\, France
CATEGORIES:Séminaire Axe 3,Séminaires
ATTACH;FMTTYPE=image/jpeg:https://eriac.univ-rouen.fr/wp-content/uploads/2026/02/Affiche_ResisterPhilosophes_Page_1-scaled.jpg
END:VEVENT
BEGIN:VEVENT
DTSTART;TZID=Europe/Paris:20260527T170000
DTEND;TZID=Europe/Paris:20260527T183000
DTSTAMP:20260425T121806
CREATED:20260210T194143Z
LAST-MODIFIED:20260210T194143Z
UID:5919-1779901200-1779906600@eriac.univ-rouen.fr
SUMMARY:Prendre soin : institutions culturelles et défis écologiques
DESCRIPTION:Le webinaire « Art\, éthique et soin » aura le plaisir d’accueillir : \n\nStéphanie Magalhaes (La Fabrique du musée\, Gonesse)\, « Réflexion sur le care et ses limites »\nBado Ndoye (Université Cheikh Anta Diop de Dakar)\, « Crise »\n\nWebinaire « Art\, éthique et soin » \nMaster d’éthique appliquée (Master « Langues et Sociétés »\, parcours « Philosophie et société »)\, des séminaires de recherche de l’axe 3\, Groupe de recherche « Prendre en compte la vulnérabilité : définir\, partager\, agir » : https://pcv.hypotheses.org. \nQuatre séances sont consacrées à une réflexion interculturelle et pluridisciplinaire sur la vulnérabilité\, visant à interroger les relations possibles entre l’art\, dans la diversité de ses expressions (littérature\, musique\, arts plastiques\, théâtre\, danse)\, et les pratiques du soin\, aussi bien dans le contexte contemporain qu’à travers différentes périodes historiques. Il s’agit d’analyser la manière dont l’art peut participer à des processus de soin\, de réparation et de reconstruction\, ainsi que les modalités concrètes de cette contribution. \nCette réflexion s’inscrit dans une dynamique internationale\, portée par une collaboration entre les départements de philosophie de l’Université Cheikh Anta Diop de Dakar et de l’Université de Rouen Normandie\, le département d’histoire de l’art de l’Université d’Abomey-Calavi à Cotonou\, ainsi que la Chair of Romance and Comparative Literature de l’Université de Bayreuth. Elle croise des approches issues de la philosophie (notamment en éthique et en esthétique)\, de la médecine\, de la littérature\, des pratiques artistiques et culturelles\, de la sociologie\, des sciences de l’éducation et de la psychologie\, en lien étroit avec des centres d’art\, des institutions psychiatriques et des musées. \nL’enjeu central de ces échanges est de comprendre en quoi\, et selon quelles modalités\, l’art peut contribuer à soigner et à réparer.
URL:https://eriac.univ-rouen.fr/agenda/prendre-soin-institutions-culturelles-et-defis-ecologiques/
LOCATION:Visioconférence
CATEGORIES:Séminaires,Webinaire Vulnérabilité
ATTACH;FMTTYPE=image/jpeg:https://eriac.univ-rouen.fr/wp-content/uploads/2026/02/Affiche_SeminaireArtEthiqueSoin2026.jpg
END:VEVENT
END:VCALENDAR