BEGIN:VCALENDAR
VERSION:2.0
PRODID:-//ERIAC - UR 4705 - ECPv6.15.20//NONSGML v1.0//EN
CALSCALE:GREGORIAN
METHOD:PUBLISH
X-ORIGINAL-URL:https://eriac.univ-rouen.fr
X-WR-CALDESC:Évènements pour ERIAC - UR 4705
REFRESH-INTERVAL;VALUE=DURATION:PT1H
X-Robots-Tag:noindex
X-PUBLISHED-TTL:PT1H
BEGIN:VTIMEZONE
TZID:Europe/Paris
BEGIN:DAYLIGHT
TZOFFSETFROM:+0100
TZOFFSETTO:+0200
TZNAME:CEST
DTSTART:20250330T010000
END:DAYLIGHT
BEGIN:STANDARD
TZOFFSETFROM:+0200
TZOFFSETTO:+0100
TZNAME:CET
DTSTART:20251026T010000
END:STANDARD
BEGIN:DAYLIGHT
TZOFFSETFROM:+0100
TZOFFSETTO:+0200
TZNAME:CEST
DTSTART:20260329T010000
END:DAYLIGHT
BEGIN:STANDARD
TZOFFSETFROM:+0200
TZOFFSETTO:+0100
TZNAME:CET
DTSTART:20261025T010000
END:STANDARD
BEGIN:DAYLIGHT
TZOFFSETFROM:+0100
TZOFFSETTO:+0200
TZNAME:CEST
DTSTART:20270328T010000
END:DAYLIGHT
BEGIN:STANDARD
TZOFFSETFROM:+0200
TZOFFSETTO:+0100
TZNAME:CET
DTSTART:20271031T010000
END:STANDARD
END:VTIMEZONE
BEGIN:VEVENT
DTSTART;TZID=Europe/Paris:20260317T183000
DTEND;TZID=Europe/Paris:20260317T203000
DTSTAMP:20260422T034037
CREATED:20260218T143955Z
LAST-MODIFIED:20260219T085340Z
UID:5941-1773772200-1773779400@eriac.univ-rouen.fr
SUMMARY:Introduction au séminaire "Les philosophes dans la collaboration et la résistance" : état de la question\, enjeux
DESCRIPTION:Il existe à ce jour peu d’études sur la philosophie sous l’Occupation\, qu’il s’agisse des doctrinaires de la collaboration ou des philosophes résistants. Ces derniers s’exprimèrent à la fois par des publications clandestines\, des journaux\, des correspondances et par l’action. L’ouvrage collectif dirigé par Olivier Bloch\, Philosopher en France sous l’Occupation (2009)\, constitue une exception notable. Il n’aborde toutefois pas la question de la collaboration intellectuelle. Des travaux récents montrent néanmoins un intérêt croissant pour cette période. \nLe séminaire « Les philosophes dans la collaboration et la résistance : enjeux philosophiques et politiques » — organisé par le collège international de philosophie\, avec le soutien de l’université de Rouen Normandie (ERIAC) et du campus Condorcet — s’appuiera sur des textes rares et des archives inédites. Il analysera les grandes orientations de la pensée philosophique entre 1940 et 1944. Il examinera aussi ce que Hans Blumenberg appelait le « dévoiement des philosophes ». Il s’agira enfin d’étudier les prolongements intellectuels et politiques de cette période après 1945\, notamment dans la Nouvelle Droite. Une attention particulière sera accordée au rôle et à la réception de Carl Schmitt. \n Télécharger le programme\n  \nInformations\n| emmanuel.faye@gmail.com
URL:https://eriac.univ-rouen.fr/agenda/introduction-au-seminaire-etat-de-la-question-enjeux-sur-les-differentes-formes-de-resistance/
LOCATION:Campus Condorcet | Centre des colloques | Salle 3.03 & Visioconférence\, Place du Front populaire\, Aubervilliers\, 93322\, France
CATEGORIES:Séminaire Axe 3,Séminaires
ATTACH;FMTTYPE=image/jpeg:https://eriac.univ-rouen.fr/wp-content/uploads/2026/02/Affiche_ResisterPhilosophes_Page_1-scaled.jpg
END:VEVENT
BEGIN:VEVENT
DTSTART;TZID=Europe/Paris:20260326T173000
DTEND;TZID=Europe/Paris:20260326T190000
DTSTAMP:20260422T034037
CREATED:20260127T095151Z
LAST-MODIFIED:20260318T082714Z
UID:5814-1774546200-1774551600@eriac.univ-rouen.fr
SUMMARY:Conférence de Gildas Salmon\, "Gouverner les autres en tant qu'autres : les racines coloniales des sciences comparatives"
DESCRIPTION:Dans le cadre du séminaire des travaux de l’axe 3\, consacré aux recherches actuelles en philosophie\, le département de philosophie de l’université de Rouen Normandie et l’Équipe de recherche interdisciplinaire sur les aires culturelles (ERIAC-UR 4705) ont le plaisir d’accueillir Gildas Salmon (LYER-FYT\, CNRS / EHESS) pour une conférence consacrée à « Gouverner les autres en tant qu’autres : les racines coloniales des sciences comparatives ». \nCette conférence se tiendra à l’occasion de la publication\, par Gildas Salmon\, de L’Empire de la supervision. Capture des savoirs et gouvernement colonial dans l’Inde britannique (La Découverte\, 2026). \nCe séminaire est ouvert à toutes et tous. Une diffusion en visioconférence sera mise en place pour les personnes qui le souhaiteront. N’hésitez pas à vous signaler. \nContact\nmatthieu.amat@univ-rouen.fr
URL:https://eriac.univ-rouen.fr/agenda/gouverner-les-autres-en-tant-quautres-les-racines-coloniales-des-sciences-comparatives/
LOCATION:UFR Lettres et Sciences humaines | Batiment 3 — 6e étage | Salle A600 & Visioconférence\, 1 Rue Lavoisier\, Mont-Saint-Aignan\, 76130
CATEGORIES:Séminaire Axe 3,Séminaires
ATTACH;FMTTYPE=image/jpeg:https://eriac.univ-rouen.fr/wp-content/uploads/2026/03/Affiche_GouvernerLesAutres.jpg
ORGANIZER;CN="Matthieu Amat":MAILTO:matthieu.amat@univ-rouen.fr
END:VEVENT
END:VCALENDAR