BEGIN:VCALENDAR
VERSION:2.0
PRODID:-//ERIAC - UR 4705 - ECPv6.15.20//NONSGML v1.0//EN
CALSCALE:GREGORIAN
METHOD:PUBLISH
X-ORIGINAL-URL:https://eriac.univ-rouen.fr
X-WR-CALDESC:Évènements pour ERIAC - UR 4705
REFRESH-INTERVAL;VALUE=DURATION:PT1H
X-Robots-Tag:noindex
X-PUBLISHED-TTL:PT1H
BEGIN:VTIMEZONE
TZID:Europe/Paris
BEGIN:DAYLIGHT
TZOFFSETFROM:+0100
TZOFFSETTO:+0200
TZNAME:CEST
DTSTART:20250330T010000
END:DAYLIGHT
BEGIN:STANDARD
TZOFFSETFROM:+0200
TZOFFSETTO:+0100
TZNAME:CET
DTSTART:20251026T010000
END:STANDARD
BEGIN:DAYLIGHT
TZOFFSETFROM:+0100
TZOFFSETTO:+0200
TZNAME:CEST
DTSTART:20260329T010000
END:DAYLIGHT
BEGIN:STANDARD
TZOFFSETFROM:+0200
TZOFFSETTO:+0100
TZNAME:CET
DTSTART:20261025T010000
END:STANDARD
BEGIN:DAYLIGHT
TZOFFSETFROM:+0100
TZOFFSETTO:+0200
TZNAME:CEST
DTSTART:20270328T010000
END:DAYLIGHT
BEGIN:STANDARD
TZOFFSETFROM:+0200
TZOFFSETTO:+0100
TZNAME:CET
DTSTART:20271031T010000
END:STANDARD
END:VTIMEZONE
BEGIN:VEVENT
DTSTART;TZID=Europe/Paris:20260402T170000
DTEND;TZID=Europe/Paris:20260402T183000
DTSTAMP:20260422T034111
CREATED:20251103T142002Z
LAST-MODIFIED:20260331T080149Z
UID:5439-1775149200-1775154600@eriac.univ-rouen.fr
SUMMARY:La chrie\, une forme d'expression pour l'action et/ou la contestation ?
DESCRIPTION:Mélanie Lucciano est maîtresse de conférences en langue\, littérature latines et civilisation romaine à l’université de Rouen Normandie (ERIAC UR 4705).
URL:https://eriac.univ-rouen.fr/agenda/la-chrie-une-forme-dexpression-pour-laction-et-ou-la-contestation-politiques/
LOCATION:UFR Lettres et Sciences humaines | Bâtiment 3 – 6e étage | Salle A600\, 1 rue Lavoisier\, Mont-Saint-Aignan\, 76130\, France
CATEGORIES:Séminaire Axe 2,Séminaires
ATTACH;FMTTYPE=image/jpeg:https://eriac.univ-rouen.fr/wp-content/uploads/2026/03/Affiche_ChrieActionContestation.jpg
END:VEVENT
END:VCALENDAR