BEGIN:VCALENDAR
VERSION:2.0
PRODID:-//ERIAC - UR 4705 - ECPv6.15.20//NONSGML v1.0//EN
CALSCALE:GREGORIAN
METHOD:PUBLISH
X-ORIGINAL-URL:https://eriac.univ-rouen.fr
X-WR-CALDESC:Évènements pour ERIAC - UR 4705
REFRESH-INTERVAL;VALUE=DURATION:PT1H
X-Robots-Tag:noindex
X-PUBLISHED-TTL:PT1H
BEGIN:VTIMEZONE
TZID:Europe/Paris
BEGIN:DAYLIGHT
TZOFFSETFROM:+0100
TZOFFSETTO:+0200
TZNAME:CEST
DTSTART:20250330T010000
END:DAYLIGHT
BEGIN:STANDARD
TZOFFSETFROM:+0200
TZOFFSETTO:+0100
TZNAME:CET
DTSTART:20251026T010000
END:STANDARD
BEGIN:DAYLIGHT
TZOFFSETFROM:+0100
TZOFFSETTO:+0200
TZNAME:CEST
DTSTART:20260329T010000
END:DAYLIGHT
BEGIN:STANDARD
TZOFFSETFROM:+0200
TZOFFSETTO:+0100
TZNAME:CET
DTSTART:20261025T010000
END:STANDARD
BEGIN:DAYLIGHT
TZOFFSETFROM:+0100
TZOFFSETTO:+0200
TZNAME:CEST
DTSTART:20270328T010000
END:DAYLIGHT
BEGIN:STANDARD
TZOFFSETFROM:+0200
TZOFFSETTO:+0100
TZNAME:CET
DTSTART:20271031T010000
END:STANDARD
END:VTIMEZONE
BEGIN:VEVENT
DTSTART;TZID=Europe/Paris:20260205T170000
DTEND;TZID=Europe/Paris:20260205T183000
DTSTAMP:20260422T075135
CREATED:20251103T141520Z
LAST-MODIFIED:20260202T113124Z
UID:5433-1770310800-1770316200@eriac.univ-rouen.fr
SUMMARY:(Re)lire Gabriel Garcia Marquez au XXIe siècle : quand le grand écrivain politique des Amériques devient politiquement incorrect
DESCRIPTION:Sandra Gondouin est maîtresse de conférences en littérature hispano-américaine à l’université de Rouen Normandie (ERIAC UR 4705). \nPrix Nobel de littérature en 1982\, Gabriel García Márquez représente l’un des grands noms de la littérature hispano-américaine\, une figure politique engagée\, un écrivain connu pour son humour et sa sympathie\, « Gabo » pour ses lecteurs et tous ceux qui l’apprécient. Cependant\, relire l’ensemble de son œuvre de fiction en 2026 amène à se poser des questions gênantes\, qui n’ont pas été posées ou sont passées sous les radars jusqu’au 21e siècle. En effet\, qu’en est-il de l’esthétisation de la pédophilie\, qui parcourt son œuvre comme un fil rouge\, prenant de plus en plus d’ampleur au fil des années pour culminer dans Mémoire de mes putains tristes (2004) ? Si cela semble aujourd’hui problématique\, on se demandera ici par quels mécanismes littéraires et narratifs\, mais aussi sociaux et politiques\, s’est imposée l’autorité qui a permis que la question soit passée sous silence.
URL:https://eriac.univ-rouen.fr/agenda/relire-gabriel-garcia-marquez-au-xxie-siecle-quand-le-grand-ecrivain-politique-des-ameriques-devient-politiquement-incorrect/
LOCATION:UFR Lettres et Sciences humaines | Bâtiment 3 | Salle du CETAS (A506)\, 1 Rue Lavoisier\, Mont-Saint-Aignan\, 76451\, France
CATEGORIES:Séminaire Axe 2,Séminaires
ATTACH;FMTTYPE=image/png:https://eriac.univ-rouen.fr/wp-content/uploads/2025/11/Affiche_GarciaMarquez.png
END:VEVENT
END:VCALENDAR