BEGIN:VCALENDAR
VERSION:2.0
PRODID:-//ERIAC - UR 4705 - ECPv6.15.20//NONSGML v1.0//EN
CALSCALE:GREGORIAN
METHOD:PUBLISH
X-WR-CALNAME:ERIAC - UR 4705
X-ORIGINAL-URL:https://eriac.univ-rouen.fr
X-WR-CALDESC:Évènements pour ERIAC - UR 4705
REFRESH-INTERVAL;VALUE=DURATION:PT1H
X-Robots-Tag:noindex
X-PUBLISHED-TTL:PT1H
BEGIN:VTIMEZONE
TZID:Europe/Paris
BEGIN:DAYLIGHT
TZOFFSETFROM:+0100
TZOFFSETTO:+0200
TZNAME:CEST
DTSTART:20250330T010000
END:DAYLIGHT
BEGIN:STANDARD
TZOFFSETFROM:+0200
TZOFFSETTO:+0100
TZNAME:CET
DTSTART:20251026T010000
END:STANDARD
BEGIN:DAYLIGHT
TZOFFSETFROM:+0100
TZOFFSETTO:+0200
TZNAME:CEST
DTSTART:20260329T010000
END:DAYLIGHT
BEGIN:STANDARD
TZOFFSETFROM:+0200
TZOFFSETTO:+0100
TZNAME:CET
DTSTART:20261025T010000
END:STANDARD
BEGIN:DAYLIGHT
TZOFFSETFROM:+0100
TZOFFSETTO:+0200
TZNAME:CEST
DTSTART:20270328T010000
END:DAYLIGHT
BEGIN:STANDARD
TZOFFSETFROM:+0200
TZOFFSETTO:+0100
TZNAME:CET
DTSTART:20271031T010000
END:STANDARD
END:VTIMEZONE
BEGIN:VEVENT
DTSTART;TZID=Europe/Paris:20260512T170000
DTEND;TZID=Europe/Paris:20260512T170000
DTSTAMP:20260422T033927
CREATED:20251103T142922Z
LAST-MODIFIED:20251103T142922Z
UID:5447-1778605200-1778605200@eriac.univ-rouen.fr
SUMMARY:Le traitement graphique des femmes dans les bandes dessinées de Posy Simmonds
DESCRIPTION:Oriane Monthéard est maîtresse de conférences en études anglophones à l’université de Rouen Normandie (ERIAC UR 4705)
URL:https://eriac.univ-rouen.fr/agenda/le-traitement-graphique-des-femmes-dans-les-bandes-dessinees-de-posy-simmonds/
CATEGORIES:Séminaire Axe 2,Séminaires
END:VEVENT
END:VCALENDAR