BEGIN:VCALENDAR
VERSION:2.0
PRODID:-//ERIAC - UR 4705 - ECPv6.15.20//NONSGML v1.0//EN
CALSCALE:GREGORIAN
METHOD:PUBLISH
X-WR-CALNAME:ERIAC - UR 4705
X-ORIGINAL-URL:https://eriac.univ-rouen.fr
X-WR-CALDESC:Évènements pour ERIAC - UR 4705
REFRESH-INTERVAL;VALUE=DURATION:PT1H
X-Robots-Tag:noindex
X-PUBLISHED-TTL:PT1H
BEGIN:VTIMEZONE
TZID:Europe/Paris
BEGIN:DAYLIGHT
TZOFFSETFROM:+0100
TZOFFSETTO:+0200
TZNAME:CEST
DTSTART:20250330T010000
END:DAYLIGHT
BEGIN:STANDARD
TZOFFSETFROM:+0200
TZOFFSETTO:+0100
TZNAME:CET
DTSTART:20251026T010000
END:STANDARD
BEGIN:DAYLIGHT
TZOFFSETFROM:+0100
TZOFFSETTO:+0200
TZNAME:CEST
DTSTART:20260329T010000
END:DAYLIGHT
BEGIN:STANDARD
TZOFFSETFROM:+0200
TZOFFSETTO:+0100
TZNAME:CET
DTSTART:20261025T010000
END:STANDARD
BEGIN:DAYLIGHT
TZOFFSETFROM:+0100
TZOFFSETTO:+0200
TZNAME:CEST
DTSTART:20270328T010000
END:DAYLIGHT
BEGIN:STANDARD
TZOFFSETFROM:+0200
TZOFFSETTO:+0100
TZNAME:CET
DTSTART:20271031T010000
END:STANDARD
END:VTIMEZONE
BEGIN:VEVENT
DTSTART;TZID=Europe/Paris:20260305T170000
DTEND;TZID=Europe/Paris:20260305T183000
DTSTAMP:20260422T033927
CREATED:20251103T141832Z
LAST-MODIFIED:20260302T154017Z
UID:5437-1772730000-1772735400@eriac.univ-rouen.fr
SUMMARY:Présentation du livre Beauté et présentation de soi dans le monde romain. Normes\, écarts et transgressions (Presses Universitaires de Rennes\, 2025).
DESCRIPTION:Catherine Baroin est professeure des universités en langue\, littérature latines et civilisation romaine à l’université de Rouen Normandie (ERIAC UR 4705). \nQu’est-ce qu’un beau corps ? Qu’est-ce qu’une allure et une tenue « décentes »\, pour un citoyen romain ou une matrona de la fin de la République et du Haut-Empire ? Telles sont les questions auxquelles ce livre se propose de répondre\, à partir de sources essentiellement textuelles\, en réfléchissant sur les normes de la beauté et de la présentation de soi en usage à Rome\, dans une perspective anthropologique\, inspirée notamment des travaux d’Erving Goffman. Si ces normes sont parfois formulées explicitement\, elles apparaissent aussi dans les textes qui dénoncent les écarts et les transgressions qui y contreviennent. Elles concernent le corps vêtu et en mouvement\, le maintien et l’allure (habitus)\, les soins apportés à la tenue (cultus)\, la gestuelle (gestus)\, la démarche (incessus)\, qui doivent\, chez le citoyen\, être investis de dignitas\, la beauté convenable\, adéquate au statut et aux circonstances et à l’opposé de la mollitia\, qui effémine le corps. Cet ouvrage permet ainsi de réfléchir aux critères du masculin et du féminin\, à l’idéal du juste milieu (mediocritas) et aux procédés de lecture des signes du corps.
URL:https://eriac.univ-rouen.fr/agenda/presentation-du-livre-beaute-et-presentation-de-soi-dans-le-monde-romain-normes-ecarts-et-transgressions-presses-universitaires-de-rennes-2025/
LOCATION:UFR Lettres et Sciences humaines | Bâtiment 3 – 6e étage | Salle A600\, 1 rue Lavoisier\, Mont-Saint-Aignan\, 76130\, France
CATEGORIES:Séminaire Axe 2,Séminaires
ATTACH;FMTTYPE=image/png:https://eriac.univ-rouen.fr/wp-content/uploads/2025/09/Couv_BeauteMondeRomain.png
END:VEVENT
END:VCALENDAR