BEGIN:VCALENDAR
VERSION:2.0
PRODID:-//ERIAC - UR 4705 - ECPv6.15.20//NONSGML v1.0//EN
CALSCALE:GREGORIAN
METHOD:PUBLISH
X-ORIGINAL-URL:https://eriac.univ-rouen.fr
X-WR-CALDESC:Évènements pour ERIAC - UR 4705
REFRESH-INTERVAL;VALUE=DURATION:PT1H
X-Robots-Tag:noindex
X-PUBLISHED-TTL:PT1H
BEGIN:VTIMEZONE
TZID:Europe/Paris
BEGIN:DAYLIGHT
TZOFFSETFROM:+0100
TZOFFSETTO:+0200
TZNAME:CEST
DTSTART:20250330T010000
END:DAYLIGHT
BEGIN:STANDARD
TZOFFSETFROM:+0200
TZOFFSETTO:+0100
TZNAME:CET
DTSTART:20251026T010000
END:STANDARD
BEGIN:DAYLIGHT
TZOFFSETFROM:+0100
TZOFFSETTO:+0200
TZNAME:CEST
DTSTART:20260329T010000
END:DAYLIGHT
BEGIN:STANDARD
TZOFFSETFROM:+0200
TZOFFSETTO:+0100
TZNAME:CET
DTSTART:20261025T010000
END:STANDARD
BEGIN:DAYLIGHT
TZOFFSETFROM:+0100
TZOFFSETTO:+0200
TZNAME:CEST
DTSTART:20270328T010000
END:DAYLIGHT
BEGIN:STANDARD
TZOFFSETFROM:+0200
TZOFFSETTO:+0100
TZNAME:CET
DTSTART:20271031T010000
END:STANDARD
END:VTIMEZONE
BEGIN:VEVENT
DTSTART;TZID=Europe/Paris:20260330T133000
DTEND;TZID=Europe/Paris:20260330T173000
DTSTAMP:20260422T051132
CREATED:20260325T081008Z
LAST-MODIFIED:20260326T080609Z
UID:6037-1774877400-1774891800@eriac.univ-rouen.fr
SUMMARY:Mastériales LES 2026 : "Mon master en 5 minutes"
DESCRIPTION:13h30 — Introduction \n\nMarie-José Hanaï et Sylvaine Bataille-Brennetot pour l’ERIAC\nClaire Gheeraert-Graffeuille pour le Master Langues et Sociétés\n\n13h45 — Panel 1 : Littérature et histoire. Angleterre XIe-XVIIe siècles \n\nThéo Dubuc (EA)\nHugo Laderrière (EA)\nSiméon Butler (EA)\nCapucine Janin (EA)\nDoriane Villain (EA)\n\n14h10 — Questions \n14h35 — Panel 2 : Réécritures. Littératures anglophones \n\nIzabel Dubuc (EA)\nRachelle Davoust (EA)\nNatéo Djeffal (EA)\nClara Dumotier (EA)\n\n14h55 — Questions \n15h15 — Goûter convivial \n15h40 — Panel 3 : Littérature. Espagne-Angleterre\, XIXe-XXe siècles \n\nTristan Deveaux (CMH)\nLéa Floch’hlay (EA)\nSanae Ben El Mokhtar Idrissi (CMH)\n\n15h55 — Questions \n16h10 — Panel 4 : Philosophie \n\nBenjamin Cardin (P&S)\nMaxime Haulle (P&S)\nAlice Larue (P&S)\n\n16h25 — Questions \n16h40 — Dialogue avec des doctorants et des docteurs de l’ERIAC \n17h30 — Fin des Mastériales \n Télécharger le programme
URL:https://eriac.univ-rouen.fr/agenda/masteriales-les-2026-mon-master-en-5-minutes/
LOCATION:UFR Lettres et Sciences humaines | Bâtiment 3 – 3e étage | Salle du Conseil\, 1 rue Lavoisier\, Mont-Saint-Aignan\, 76130\, France
CATEGORIES:Mastériales
ATTACH;FMTTYPE=image/jpeg:https://eriac.univ-rouen.fr/wp-content/uploads/2026/03/Affiche_MasterialesLES2026-scaled.jpg
END:VEVENT
END:VCALENDAR