BEGIN:VCALENDAR
VERSION:2.0
PRODID:-//ERIAC - UR 4705 - ECPv6.15.20//NONSGML v1.0//EN
CALSCALE:GREGORIAN
METHOD:PUBLISH
X-WR-CALNAME:ERIAC - UR 4705
X-ORIGINAL-URL:https://eriac.univ-rouen.fr
X-WR-CALDESC:Évènements pour ERIAC - UR 4705
REFRESH-INTERVAL;VALUE=DURATION:PT1H
X-Robots-Tag:noindex
X-PUBLISHED-TTL:PT1H
BEGIN:VTIMEZONE
TZID:Europe/Paris
BEGIN:DAYLIGHT
TZOFFSETFROM:+0100
TZOFFSETTO:+0200
TZNAME:CEST
DTSTART:20250330T010000
END:DAYLIGHT
BEGIN:STANDARD
TZOFFSETFROM:+0200
TZOFFSETTO:+0100
TZNAME:CET
DTSTART:20251026T010000
END:STANDARD
BEGIN:DAYLIGHT
TZOFFSETFROM:+0100
TZOFFSETTO:+0200
TZNAME:CEST
DTSTART:20260329T010000
END:DAYLIGHT
BEGIN:STANDARD
TZOFFSETFROM:+0200
TZOFFSETTO:+0100
TZNAME:CET
DTSTART:20261025T010000
END:STANDARD
BEGIN:DAYLIGHT
TZOFFSETFROM:+0100
TZOFFSETTO:+0200
TZNAME:CEST
DTSTART:20270328T010000
END:DAYLIGHT
BEGIN:STANDARD
TZOFFSETFROM:+0200
TZOFFSETTO:+0100
TZNAME:CET
DTSTART:20271031T010000
END:STANDARD
END:VTIMEZONE
BEGIN:VEVENT
DTSTART;TZID=Europe/Paris:20260123T093000
DTEND;TZID=Europe/Paris:20260123T170000
DTSTAMP:20260422T074515
CREATED:20251219T120754Z
LAST-MODIFIED:20260116T112836Z
UID:5685-1769160600-1769187600@eriac.univ-rouen.fr
SUMMARY:Expériences avec le numérique et l’intelligence artificielle pour l'enseignement-apprentissage des langues
DESCRIPTION:Journée d’étude organisée par Frédérique Freund et Ana-Isabel Ribera Ruiz de Vergara. \nProgramme\n9h30 — Accueil  \n10h00 — Frédérique Freund (Université de Rouen Normandie)\, « L’ouverture en formation hybride en langues : un levier pour l’autonomisation et l’exercice de l’agentivité ? » \n10h45 — Pause \n 11h00 — Anne-Laure Dubrac (Université Paris-Est Créteil) et Aleksandra Ljalikova (Université de Tallinn)\, « Comment intégrer l’IA en cours afin d’accroitre l’engagement des apprenants ? » \n12h30 — Déjeuner (buffet à l’Espace la Bulle) \n13h30 — Dimitra Tzatzou (Université de Rouen Normandie)\, « Usages de l’IA chez les futurs enseignants de FLE/S : entre opportunités et questionnements éthiques » \n14h15 — Yann Seyeux (Université de Rouen Normandie)\, « Intégrer l’intelligence artificielle dans l’enseignement des cultures hispaniques : de l’outil pédagogique à l’objet d’étude » \n15h00 — Pause  \n15h10 — Miran Kang (Université Le Havre Normandie)\, « L’IA et l’évolution des rôles pédagogique\, relationnel et professionnel de l’enseignant·e de langues » \n15h55 — Ana-Isabel Ribera Ruiz de Vergara (Université de Rouen Normandie)\, « Réflexions sur l’utilisation de l’IA pour l’enseignement-apprentissage de l’espagnol » \n16h40 — Conclusions \n Télécharger les résumés
URL:https://eriac.univ-rouen.fr/agenda/experiences-avec-le-numerique-et-lintelligence-artificielle-pour-lenseignement-apprentissage-des-langues/
LOCATION:Maison de l’université | Salle divisible nord\, 3 place Émile Blondel\, Mont-Saint-Aignan\, 76130\, France
CATEGORIES:Journées d'étude
ATTACH;FMTTYPE=image/jpeg:https://eriac.univ-rouen.fr/wp-content/uploads/2025/12/Affiche_NumeriqueLangues.jpg
ORGANIZER;CN="Ana-Isabel Ribera Ruiz De Vergara":MAILTO:ana-isabel.riberaruizdevergara@univ-rouen.fr
END:VEVENT
END:VCALENDAR